BEGIN:VCALENDAR
PRODID:-//AT Content Types//AT Event//EN
VERSION:2.0
METHOD:PUBLISH
BEGIN:VEVENT
DTSTAMP:20260425T195006Z
CREATED:20131214T131405Z
UID:ATEvent-b443a171ce0d05b4bba77e319fb9879e
LAST-MODIFIED:20131214T131413Z
SUMMARY:Újévi úrvacsorai istentisztelet Takácsiban
DTSTART:20140101T130000Z
DTEND:20140101T140000Z
LOCATION:Takácsi
CATEGORIES:istentisztelet,Takácsi
CLASS:PUBLIC
END:VEVENT
END:VCALENDAR
