BEGIN:VCALENDAR
PRODID:-//AT Content Types//AT Event//EN
VERSION:1.0
BEGIN:VEVENT
DTSTART:20130609T080000Z
DTEND:20130609T090000Z
DCREATED:20130526T121615Z
UID:ATEvent-a0afd6e849c281a0d22f9c26d685886a
SEQUENCE:0
LAST-MODIFIED:20130526T121645Z
SUMMARY:Református-evangélikus tanévzáró istentisztelet
LOCATION:Takácsi (evangélikus templom)
PRIORITY:3
TRANSP:0
END:VEVENT
END:VCALENDAR
