BEGIN:VCALENDAR
PRODID:-//AT Content Types//AT Event//EN
VERSION:2.0
METHOD:PUBLISH
BEGIN:VEVENT
DTSTAMP:20260425T234444Z
CREATED:20140110T121157Z
UID:ATEvent-4d1ea9861c993b37719b7e64438eec3d
LAST-MODIFIED:20140115T192220Z
SUMMARY:Ã–kumenikus imaheti istentisztelet TakÃ¡csiban
DTSTART:20140122T170000Z
DTEND:20140122T180000Z
DESCRIPTION:Az Ã¶kumenikus imahÃ©t 2014-es alkalmai TakÃ¡csiban\:\njan
 uÃ¡r 20. hÃ©tfÅ‘\, 18 Ã³ra â€“ reformÃ¡tus gyÃ¼lekezeti terem\,\njanuÃ
 ¡r 22. szerda\, 18 Ã³ra  â€“ evangÃ©likus gyÃ¼lekezeti terem
LOCATION:TakÃ¡csi (evangÃ©likus gyÃ¼lekezeti terem)
CATEGORIES:istentisztelet,TakÃ¡csi
CLASS:PUBLIC
END:VEVENT
END:VCALENDAR
