BEGIN:VCALENDAR
PRODID:-//AT Content Types//AT Event//EN
VERSION:2.0
METHOD:PUBLISH
BEGIN:VEVENT
DTSTAMP:20260425T114908Z
CREATED:20130106T181151Z
UID:ATEvent-dcec42a6d308db415e50e529b86243ec
LAST-MODIFIED:20130106T181157Z
SUMMARY:Ökumenikus imaheti istentisztelet Takácsiban 3.
DTSTART:20130123T170000Z
DTEND:20130123T174500Z
LOCATION:Takácsi (evangélikus gyülekezeti terem)
CATEGORIES:istentisztelet,Takácsi
CLASS:PUBLIC
END:VEVENT
END:VCALENDAR
