BEGIN:VCALENDAR
PRODID:-//AT Content Types//AT Event//EN
VERSION:1.0
BEGIN:VEVENT
DTSTART:20130122T170000Z
DTEND:20130122T174500Z
DCREATED:20130106T181031Z
UID:ATEvent-e4e1ffe541eaa3318042b8b8b8a66ed5
SEQUENCE:0
LAST-MODIFIED:20130106T181037Z
SUMMARY:Ökumenikus imaheti istentisztelet Takácsiban 2.
LOCATION:Takácsi (református gyülekezeti terem)
PRIORITY:3
TRANSP:0
END:VEVENT
END:VCALENDAR
