BEGIN:VCALENDAR
PRODID:-//AT Content Types//AT Event//EN
VERSION:2.0
METHOD:PUBLISH
BEGIN:VEVENT
DTSTAMP:20260425T153136Z
CREATED:20130106T180935Z
UID:ATEvent-7ddbee8b51702a3969224f344fe9a383
LAST-MODIFIED:20130106T180943Z
SUMMARY:Ökumenikus imaheti istentisztelet Takácsiban 1.
DTSTART:20130121T170000Z
DTEND:20130121T174500Z
LOCATION:Takácsi (római katolikus templom)
CATEGORIES:istentisztelet,Takácsi
CLASS:PUBLIC
END:VEVENT
END:VCALENDAR
