BEGIN:VCALENDAR
PRODID:-//AT Content Types//AT Event//EN
VERSION:2.0
METHOD:PUBLISH
BEGIN:VEVENT
DTSTAMP:20260425T210807Z
CREATED:20140110T121306Z
UID:ATEvent-dfa8c0aa4aaefec30ce18260b0368d9d
LAST-MODIFIED:20140115T192522Z
SUMMARY:Ökumenikus imaheti istentisztelet Nemesgörzsönyben
DTSTART:20140123T170000Z
DTEND:20140123T180000Z
DESCRIPTION:Az alkalmat a Vargha Gyula Református Általános Iskola 
 tornatermében tartjuk mindhárom gyülekezet lelkészének közös sz
 olgálatával
LOCATION:Nemesgörzsöny (az iskola tornaterme)
CATEGORIES:Nemesgörzsöny,istentisztelet
CLASS:PUBLIC
END:VEVENT
END:VCALENDAR
