BEGIN:VCALENDAR
PRODID:-//AT Content Types//AT Event//EN
VERSION:2.0
METHOD:PUBLISH
BEGIN:VEVENT
DTSTAMP:20260426T034740Z
CREATED:20131202T174239Z
UID:ATEvent-2ec0956ae45193bcfcb8816e5e2dab4c
LAST-MODIFIED:20131202T174307Z
SUMMARY:Ökumenikus adventi áhítat majd beszélgetés
DTSTART:20131221T150000Z
DTEND:20131221T154000Z
LOCATION:Takácsi (református parókia)
CATEGORIES:Takácsi
CLASS:PUBLIC
END:VEVENT
END:VCALENDAR
