BEGIN:VCALENDAR
PRODID:-//AT Content Types//AT Event//EN
VERSION:1.0
BEGIN:VEVENT
DTSTART:20121120T170000Z
DTEND:20121120T180000Z
DCREATED:20121110T120831Z
UID:ATEvent-71470e4d62ab4165d5517e3ecbcc0c90
SEQUENCE:0
LAST-MODIFIED:20121110T120841Z
SUMMARY:Mindenkor örüljetek! Evangélizációs sorozat 1.
DESCRIPTION:Az evangélikus és a református gyülekezet szervezésé
 ben evangélizációs sorozatot tartunk három estén (nov. 20-22. ked
 d-csütörtök). Igét hirdet Hamar István református lelkész.
LOCATION:Takácsi
PRIORITY:3
TRANSP:0
END:VEVENT
END:VCALENDAR
