BEGIN:VCALENDAR
PRODID:-//AT Content Types//AT Event//EN
VERSION:2.0
METHOD:PUBLISH
BEGIN:VEVENT
DTSTAMP:20260425T234443Z
CREATED:20130505T183542Z
UID:ATEvent-20bc57e52823f59a4ae4268eb5c68153
LAST-MODIFIED:20130505T183552Z
SUMMARY:Lelkészgyűlés Takácsiban
DTSTART:20130515T070000Z
DTEND:20130515T110000Z
DESCRIPTION:Kezdeteként úrvacsorai istentisztelet
LOCATION:Takácsi
CATEGORIES:Takácsi
CLASS:PUBLIC
END:VEVENT
END:VCALENDAR
