BEGIN:VCALENDAR
PRODID:-//AT Content Types//AT Event//EN
VERSION:2.0
METHOD:PUBLISH
BEGIN:VEVENT
DTSTAMP:20260425T181210Z
CREATED:20130505T184211Z
UID:ATEvent-2e13fd8f209a034d64f2f1f831179654
LAST-MODIFIED:20130505T184219Z
SUMMARY:Konfirmációi istentisztelet Nemesgörzsönyben
DTSTART:20130519T113000Z
DTEND:20130519T125000Z
LOCATION:Nemesgörzsöny (felsői református templom)
CATEGORIES:Nemesgörzsöny,istentisztelet
CLASS:PUBLIC
END:VEVENT
END:VCALENDAR
