BEGIN:VCALENDAR
PRODID:-//AT Content Types//AT Event//EN
VERSION:1.0
BEGIN:VEVENT
DTSTART:20130519T070000Z
DTEND:20130519T082500Z
DCREATED:20130505T184039Z
UID:ATEvent-5012cef4a226029868e7d7f299921d85
SEQUENCE:0
LAST-MODIFIED:20130505T184048Z
SUMMARY:Konfirmációi emlékünnep pünkösd ünnepén
DESCRIPTION:Keresztelési és úrvacsorai istentisztelet
LOCATION:Takácsi
PRIORITY:3
TRANSP:0
END:VEVENT
END:VCALENDAR
