BEGIN:VCALENDAR
PRODID:-//AT Content Types//AT Event//EN
VERSION:1.0
BEGIN:VEVENT
DTSTART:20121225T123000Z
DTEND:20121225T134000Z
DCREATED:20121213T173645Z
UID:ATEvent-2a24343228c7bc8f7d5a8abfc0b268d0
SEQUENCE:0
LAST-MODIFIED:20121213T173656Z
SUMMARY:Karácsonyi úrvacsorai istentisztelet Nemesgörzsönyben
LOCATION:Nemesgörzsöny (felsői református templom)
PRIORITY:3
TRANSP:0
END:VEVENT
END:VCALENDAR
