BEGIN:VCALENDAR
PRODID:-//AT Content Types//AT Event//EN
VERSION:2.0
METHOD:PUBLISH
BEGIN:VEVENT
DTSTAMP:20260425T221722Z
CREATED:20131214T130801Z
UID:ATEvent-e97be756835b0758e35f2fe6113b4550
LAST-MODIFIED:20131214T130824Z
SUMMARY:Karácsonyi úrvacsorai istentisztelet Nemesgörzsönyben
DTSTART:20131225T123000Z
DTEND:20131225T133000Z
LOCATION:Nemesgörzsöny (felsői református templom)
CATEGORIES:Nemesgörzsöny,istentisztelet
CLASS:PUBLIC
END:VEVENT
END:VCALENDAR
