BEGIN:VCALENDAR
PRODID:-//AT Content Types//AT Event//EN
VERSION:2.0
METHOD:PUBLISH
BEGIN:VEVENT
DTSTAMP:20260425T204930Z
CREATED:20121213T173903Z
UID:ATEvent-ddbf1d2f81938093d96e7c8a6fcd24f0
LAST-MODIFIED:20121213T173911Z
SUMMARY:Istentisztelet Takácsiban karácsony másodnapján
DTSTART:20121226T080000Z
DTEND:20121226T085500Z
DESCRIPTION:Weltler Gábor malomsoki lelkész szolgálatával
LOCATION:Takácsi
CATEGORIES:istentisztelet,Takácsi
CLASS:PUBLIC
END:VEVENT
END:VCALENDAR
