BEGIN:VCALENDAR
PRODID:-//AT Content Types//AT Event//EN
VERSION:1.0
BEGIN:VEVENT
DTSTART:20140615T130000Z
DTEND:20140615T135000Z
DCREATED:20140606T120316Z
UID:ATEvent-5aa8dc6871c89d421566a00d5608cc9e
SEQUENCE:0
LAST-MODIFIED:20140606T120329Z
SUMMARY:Istentisztelet Szentháromság ünnepén Nagyacsádon
LOCATION:Nagyacsád
PRIORITY:3
TRANSP:0
END:VEVENT
END:VCALENDAR
