BEGIN:VCALENDAR
PRODID:-//AT Content Types//AT Event//EN
VERSION:1.0
BEGIN:VEVENT
DTSTART:20130509T160000Z
DTEND:20130509T164500Z
DCREATED:20130419T193557Z
UID:ATEvent-870926887d0467a76b986e561f14349d
SEQUENCE:0
LAST-MODIFIED:20130419T193603Z
SUMMARY:Istentisztelet mennybemenetel ünnepén
LOCATION:Takácsi
PRIORITY:3
TRANSP:0
END:VEVENT
END:VCALENDAR
