BEGIN:VCALENDAR
PRODID:-//AT Content Types//AT Event//EN
VERSION:2.0
METHOD:PUBLISH
BEGIN:VEVENT
DTSTAMP:20260425T192004Z
CREATED:20131214T130952Z
UID:ATEvent-e38ddc20df65e1a75b359c3fd5edcb35
LAST-MODIFIED:20131214T131000Z
SUMMARY:Istentisztelet karácsony második napján Takácsiban
DTSTART:20131226T080000Z
DTEND:20131226T085000Z
LOCATION:Takácsi
CATEGORIES:istentisztelet,Takácsi
CLASS:PUBLIC
END:VEVENT
END:VCALENDAR
