BEGIN:VCALENDAR
PRODID:-//AT Content Types//AT Event//EN
VERSION:2.0
METHOD:PUBLISH
BEGIN:VEVENT
DTSTAMP:20260425T171425Z
CREATED:20130313T085913Z
UID:ATEvent-8bc57566ce44c3f6bfb211a108c091cb
LAST-MODIFIED:20130313T085921Z
SUMMARY:Húsvéti úrvacsorai istentisztelet Nagyacsádon
DTSTART:20130331T130000Z
DTEND:20130331T140000Z
LOCATION:Nagyacsád
CATEGORIES:istentisztelet,Nagyacsád
CLASS:PUBLIC
END:VEVENT
END:VCALENDAR
