BEGIN:VCALENDAR
PRODID:-//AT Content Types//AT Event//EN
VERSION:2.0
METHOD:PUBLISH
BEGIN:VEVENT
DTSTAMP:20260425T215518Z
CREATED:20121026T180433Z
UID:ATEvent-637267489aa2e0156dec9e319c37d956
LAST-MODIFIED:20121026T180600Z
SUMMARY:Gyülekezeti közgyűlés Nagyacsádon
DTSTART:20121109T160000Z
DTEND:20121109T173000Z
LOCATION:Nagyacsád
CATEGORIES:Nagyacsád
CLASS:PUBLIC
END:VEVENT
END:VCALENDAR
