BEGIN:VCALENDAR
PRODID:-//AT Content Types//AT Event//EN
VERSION:1.0
BEGIN:VEVENT
DTSTART:20130501T050000Z
DTEND:20130501T180000Z
DCREATED:20130419T193055Z
UID:ATEvent-9a0024638c96434d2c10e9cb680c2ff5
SEQUENCE:0
LAST-MODIFIED:20130419T193103Z
SUMMARY:Gyülekezeti kirándulás a Balatonhoz
LOCATION:Balatonboglár-Siófok-Balatonfüred
PRIORITY:3
TRANSP:0
END:VEVENT
END:VCALENDAR
