BEGIN:VCALENDAR
PRODID:-//AT Content Types//AT Event//EN
VERSION:2.0
METHOD:PUBLISH
BEGIN:VEVENT
DTSTAMP:20260425T235922Z
CREATED:20130603T175250Z
UID:ATEvent-1eb9ecd16be05efaec006ca4bcb3a121
LAST-MODIFIED:20130603T175300Z
SUMMARY:Gerence-környéki evangélikus gyülekezetek találkozója
DTSTART:20130623T080000Z
DTEND:20130623T140000Z
DESCRIPTION:Egész napos program úrvacsorai istentisztelettel és kö
 zös ebéddel\, fiataloknak és időseknek. Aznap Takácsiban\, Nagyac
 sádon és Nemesgörzsönyben nem tartunk istentiszteletet.
LOCATION:Csikvánd
CATEGORIES:istentisztelet
CLASS:PUBLIC
END:VEVENT
END:VCALENDAR
