BEGIN:VCALENDAR
PRODID:-//AT Content Types//AT Event//EN
VERSION:1.0
BEGIN:VEVENT
DTSTART:20130106T080000Z
DTEND:20130106T090000Z
DCREATED:20121214T120338Z
UID:ATEvent-b66aec5353ed635f2cdcb1c4e5fb3b20
SEQUENCE:0
LAST-MODIFIED:20121214T120344Z
SUMMARY:Családi istentisztelet vízkereszt ünnepén
LOCATION:Takácsi
PRIORITY:3
TRANSP:0
END:VEVENT
END:VCALENDAR
