BEGIN:VCALENDAR
PRODID:-//AT Content Types//AT Event//EN
VERSION:2.0
METHOD:PUBLISH
BEGIN:VEVENT
DTSTAMP:20260425T153136Z
CREATED:20120223T141421Z
UID:ATEvent-95157297a7103331b6c9ff6c209a21b6
LAST-MODIFIED:20120223T141432Z
SUMMARY:A presbitérium beiktatása az istentisztelet keretében
DTSTART:20120318T080000Z
DTEND:20120318T091000Z
LOCATION:Takácsi
CLASS:PUBLIC
END:VEVENT
END:VCALENDAR
